View In:
ArcGIS JavaScript
ArcGIS Online Map Viewer
ArcGIS Earth
Service Description: Digital photo mosaic of Brown County Wisconsin created from scanned 9" x 9" photos from year 1990. Color imagery. Hard copy photos were sourced from the Brown County Planning & Land Services (PALS) Department and scanned at 600dpi. Individual 1990 photo scans were registered to common points on newer orthophotographs. The resulting digital mosaic has a ground resolution of approximately 1 foot. This is not a true orthphotograph: No terrain or elevation models were used during processing. Generally, these photos have a horizontal accuracy of +/- 50 feet
Name: AerialImagery/AerialPhotos_1990
Description: Digital photo mosaic of Brown County Wisconsin created from scanned 9" x 9" photos from year 1990. Color imagery. Hard copy photos were sourced from the Brown County Planning & Land Services (PALS) Department and scanned at 600dpi. Individual 1990 photo scans were registered to common points on newer orthophotographs. The resulting digital mosaic has a ground resolution of approximately 1 foot. This is not a true orthphotograph: No terrain or elevation models were used during processing. Generally, these photos have a horizontal accuracy of +/- 50 feet
Single Fused Map Cache: false
Extent:
XMin: 35129.47000000003
YMin: 466801.5040000001
XMax: 167069.46999999986
YMax: 629885.5039999998
Spatial Reference: 103404
(8213)
Initial Extent:
XMin: 35129.47000000003
YMin: 466801.5040000001
XMax: 167069.46999999986
YMax: 629885.5039999998
Spatial Reference: 103404
(8213)
Full Extent:
XMin: 35129.47000000003
YMin: 466801.5040000001
XMax: 167069.46999999986
YMax: 629885.5039999998
Spatial Reference: 103404
(8213)
Pixel Size X: 0.9999999999999987
Pixel Size Y: 0.9999999999999986
Band Count: 3
Pixel Type: U8
RasterFunction Infos: {"rasterFunctionInfos": [{
"help": "",
"name": "None",
"description": ""
}]}
Mensuration Capabilities: None
Inspection Capabilities:
Has Histograms: true
Has Colormap: false
Has Multi Dimensions : false
Rendering Rule:
Min Scale: 0
Max Scale: 0
Copyright Text: Brown County Wisconsin,
Service Data Type: esriImageServiceDataTypeRGB
Min Values: 0, 0, 13
Max Values: 255, 255, 255
Mean Values: 104.89135247657809, 91.812587186714879, 77.992765648463902
Standard Deviation Values: 37.655181308169901, 32.305469643527594, 26.971004030462343
Object ID Field: OBJECTID
Fields:
-
OBJECTID
(
alias: OBJECTID, type: esriFieldTypeOID
)
-
Shape
(
alias: Shape, type: esriFieldTypeGeometry
)
-
Name
(
length: 200, alias: Name, type: esriFieldTypeString
)
-
MinPS
(
alias: MinPS, type: esriFieldTypeDouble
)
-
MaxPS
(
alias: MaxPS, type: esriFieldTypeDouble
)
-
LowPS
(
alias: LowPS, type: esriFieldTypeDouble
)
-
HighPS
(
alias: HighPS, type: esriFieldTypeDouble
)
-
Category
(
alias: Category, type: esriFieldTypeInteger
, Coded Values:
[0: Unknown]
, [1: Primary]
, [2: Overview]
, ...6 more...
)
-
Tag
(
length: 100, alias: Tag, type: esriFieldTypeString
)
-
GroupName
(
length: 100, alias: GroupName, type: esriFieldTypeString
)
-
ProductName
(
length: 100, alias: ProductName, type: esriFieldTypeString
)
-
CenterX
(
alias: CenterX, type: esriFieldTypeDouble
)
-
CenterY
(
alias: CenterY, type: esriFieldTypeDouble
)
-
ZOrder
(
alias: ZOrder, type: esriFieldTypeInteger
)
-
Shape_Length
(
alias: Shape_Length, type: esriFieldTypeDouble
)
-
Shape_Area
(
alias: Shape_Area, type: esriFieldTypeDouble
)
Default Mosaic Method: Northwest
Allowed Mosaic Methods: NorthWest,Center,LockRaster,ByAttribute,Nadir,Viewpoint,Seamline,None
SortField:
SortValue: N/A
Mosaic Operator: First
Default Compression Quality: 75
Default Resampling Method: Bilinear
Max Record Count: 1000
Max Image Height: 4100
Max Image Width: 15000
Max Download Image Count: 20
Max Mosaic Image Count: 20
Allow Raster Function: true
Allow Copy: true
Allow Analysis: true
Allow Compute TiePoints: false
Supports Statistics: true
Supports Advanced Queries: true
Use StandardizedQueries: true
Raster Type Infos:
Name: Raster Dataset
Description: Supports all ArcGIS Raster Datasets
Help:
Has Raster Attribute Table: false
Edit Fields Info: N/A
Ownership Based AccessControl For Rasters: N/A
Child Resources:
Info
Histograms
Statistics
Key Properties
Legend
Raster Function Infos
Supported Operations:
Export Image
Query
Identify
Compute Histograms
Compute Statistics Histograms
Get Samples
Compute Class Statistics
Query GPS Info
Find Images
Image to Map
Map to Image
Measure from Image
Image to Map Multiray
Query Boundary
Compute Pixel Location
Compute Angles
Validate
Project