{ "extent": { "ymin": 466801.50400000007, "xmin": 35129.47000000003, "ymax": 629885.50399999984, "xmax": 167069.46999999986, "spatialReference": { "latestWkid": 8213, "wkid": 103404 } }, "blockWidth": 2048, "mosaicOperator": "First", "serviceSourceType": "esriImageServiceSourceTypeMosaicDataset", "hasMultidimensions": false, "maxImageWidth": 15000, "maxRecordCount": 1000, "meanValues": [ 104.89135247657809, 91.812587186714879, 77.992765648463902 ], "hasColormap": false, "compressionType": "None", "defaultCompressionQuality": 75, "maxValues": [ 255, 255, 255 ], "hasHistograms": true, "datasetFormat": "AMD", "maxImageHeight": 4100, "sortField": "", "bandNames": [ "Band_1", "Band_2", "Band_3" ], "spatialReference": { "latestWkid": 8213, "wkid": 103404 }, "fullExtent": { "ymin": 466801.50400000007, "xmin": 35129.47000000003, "ymax": 629885.50399999984, "xmax": 167069.46999999986, "spatialReference": { "latestWkid": 8213, "wkid": 103404 } }, "bandCount": 3, "rasterFunctionInfos": [{ "help": "", "name": "None", "description": "" }], "supportsStatistics": true, "sortableFields": "MinPS,MaxPS,LowPS,HighPS,CenterX,CenterY,ZOrder,Shape_Length,Shape_Area", "minValues": [ 0, 0, 13 ], "allowRasterFunction": true, "allowComputeTiePoints": false, "serviceDataType": "esriImageServiceDataTypeRGB", "supportsAdvancedQueries": true, "maxDownloadSizeLimit": 2048, "currentVersion": 12.1, "sortValue": null, "objectIdField": "OBJECTID", "blockHeight": 256, "initialExtent": { "ymin": 466801.50400000007, "xmin": 35129.47000000003, "ymax": 629885.50399999984, "xmax": 167069.46999999986, "spatialReference": { "latestWkid": 8213, "wkid": 103404 } }, "pixelSizeX": 0.99999999999999867, "pixelSizeY": 0.99999999999999856, "defaultMosaicMethod": "Northwest", "name": "AerialImagery/AerialPhotos_1990", "allowedMosaicMethods": "NorthWest,Center,LockRaster,ByAttribute,Nadir,Viewpoint,Seamline,None", "maxDownloadImageCount": 20, "fields": [ { "domain": null, "name": "OBJECTID", "alias": "OBJECTID", "type": "esriFieldTypeOID" }, { "domain": null, "name": "Shape", "alias": "Shape", "type": "esriFieldTypeGeometry" }, { "domain": null, "name": "Name", "length": 200, "alias": "Name", "type": "esriFieldTypeString" }, { "domain": null, "name": "MinPS", "alias": "MinPS", "type": "esriFieldTypeDouble" }, { "domain": null, "name": "MaxPS", "alias": "MaxPS", "type": "esriFieldTypeDouble" }, { "domain": null, "name": "LowPS", "alias": "LowPS", "type": "esriFieldTypeDouble" }, { "domain": null, "name": "HighPS", "alias": "HighPS", "type": "esriFieldTypeDouble" }, { "domain": { "splitPolicy": "esriSPTDefaultValue", "name": "MosaicCatalogItemCategoryDomain", "description": "Catalog item categories.", "type": "codedValue", "codedValues": [ { "code": 0, "name": "Unknown" }, { "code": 1, "name": "Primary" }, { "code": 2, "name": "Overview" }, { "code": 3, "name": "Unprocessed Overview" }, { "code": 4, "name": "Partial Overview" }, { "code": 5, "name": "Inactive" }, { "code": 253, "name": "Uploaded" }, { "code": 254, "name": "Incomplete" }, { "code": 255, "name": "Custom" } ], "mergePolicy": "esriMPTDefaultValue" }, "name": "Category", "alias": "Category", "type": "esriFieldTypeInteger" }, { "domain": null, "name": "Tag", "length": 100, "alias": "Tag", "type": "esriFieldTypeString" }, { "domain": null, "name": "GroupName", "length": 100, "alias": "GroupName", "type": "esriFieldTypeString" }, { "domain": null, "name": "ProductName", "length": 100, "alias": "ProductName", "type": "esriFieldTypeString" }, { "domain": null, "name": "CenterX", "alias": "CenterX", "type": "esriFieldTypeDouble" }, { "domain": null, "name": "CenterY", "alias": "CenterY", "type": "esriFieldTypeDouble" }, { "domain": null, "name": "ZOrder", "alias": "ZOrder", "type": "esriFieldTypeInteger" }, { "domain": null, "name": "Shape_Length", "alias": "Shape_Length", "type": "esriFieldTypeDouble" }, { "domain": null, "name": "Shape_Area", "alias": "Shape_Area", "type": "esriFieldTypeDouble" } ], "allowAnalysis": true, "hasRasterAttributeTable": false, "useStandardizedQueries": true, "description": "
Digital photo mosaic of Brown County Wisconsin created from scanned 9\" x 9\" photos from year 1990. Color imagery. Hard copy photos were sourced from the Brown County Planning & Land Services (PALS) Department and scanned at 600dpi. Individual 1990 photo scans were registered to common points on newer orthophotographs. The resulting digital mosaic has a ground resolution of approximately 1 foot. This is not a true orthphotograph: No terrain or elevation models were used during processing. Generally, these photos have a horizontal accuracy of +/- 50 feet<\/SPAN><\/P><\/DIV><\/DIV><\/DIV>",
"pixelType": "U8",
"meanPixelSize": 0.30480060960121885,
"exportTilesAllowed": false,
"editFieldsInfo": null,
"rasterTypeInfos": [{
"help": "",
"name": "Raster Dataset",
"description": "Supports all ArcGIS Raster Datasets"
}],
"defaultResamplingMethod": "Bilinear",
"itemAccess": false,
"minScale": 0,
"serviceProperties": " Digital photo mosaic of Brown County Wisconsin created from scanned 9\" x 9\" photos from year 1990. Color imagery. Hard copy photos were sourced from the Brown County Planning & Land Services (PALS) Department and scanned at 600dpi. Individual 1990 photo scans were registered to common points on newer orthophotographs. The resulting digital mosaic has a ground resolution of approximately 1 foot. This is not a true orthphotograph: No terrain or elevation models were used during processing. Generally, these photos have a horizontal accuracy of +/- 50 feet<\/SPAN><\/P><\/DIV><\/DIV><\/DIV>",
"allowCopy": true,
"copyrightText": "Brown County Wisconsin,",
"mensurationCapabilities": "None",
"ownershipBasedAccessControlForRasters": null
}