View In:
ArcGIS JavaScript
ArcGIS Online Map Viewer
ArcGIS Earth
Service Description: Digital aerial photo mosaic covering Brown County Wisconsin created from scanned photos from year 1967. Laminated hard copy photos located in the Brown County Planning & Land Services (PALS) Department were scanned and digitally georeferenced using ArcGIS Pro in 2023 by PALS interns. Hard copy photo scale was 1:20,000. Scans were done at 600 dpi yielding a ground resolution of approximately 0.7 feet. To produce this digital dataset, individual 1967 photos were registered to common points on more recent orthophotos. This is not a true orthophoto; no DEM was used. Horizontal accuracy of the 1967 mosaic dataset varies but is generally less than 20 feet in most places.
Name: AerialImagery/AerialPhotos_1967
Description: Digital aerial photo mosaic covering Brown County Wisconsin created from scanned photos from year 1967. Laminated hard copy photos located in the Brown County Planning & Land Services (PALS) Department were scanned and digitally georeferenced using ArcGIS Pro in 2023 by PALS interns. Hard copy photo scale was 1:20,000. Scans were done at 600 dpi yielding a ground resolution of approximately 0.7 feet. To produce this digital dataset, individual 1967 photos were registered to common points on more recent orthophotos. This is not a true orthophoto; no DEM was used. Horizontal accuracy of the 1967 mosaic dataset varies but is generally less than 20 feet in most places.
Single Fused Map Cache: false
Extent:
XMin: 35976.83123319068
YMin: 458680.44315385364
XMax: 167659.66285869223
YMax: 635835.6572985682
Spatial Reference: 103404
(8213)
Initial Extent:
XMin: 35976.83123319068
YMin: 458680.44315385364
XMax: 167659.66285869223
YMax: 635835.6572985682
Spatial Reference: 103404
(8213)
Full Extent:
XMin: 35976.83123319068
YMin: 458680.44315385364
XMax: 167659.66285869223
YMax: 635835.6572985682
Spatial Reference: 103404
(8213)
Pixel Size X: 0.6446508622191294
Pixel Size Y: 0.6446508622191295
Band Count: 1
Pixel Type: U8
RasterFunction Infos: {"rasterFunctionInfos": [{
"help": "",
"name": "None",
"description": "A No-Op Function."
}]}
Mensuration Capabilities: None
Inspection Capabilities:
Has Histograms: true
Has Colormap: false
Has Multi Dimensions : false
Rendering Rule:
Min Scale: 0
Max Scale: 0
Copyright Text: Brown County Wisconsin
Service Data Type: esriImageServiceDataTypeGeneric
Min Values: 0
Max Values: 255
Mean Values: 131.77117062090264
Standard Deviation Values: 42.697242296152112
Object ID Field: OBJECTID
Fields:
-
OBJECTID
(
alias: OBJECTID, type: esriFieldTypeOID
)
-
Shape
(
alias: Shape, type: esriFieldTypeGeometry
)
-
Name
(
length: 200, alias: Name, type: esriFieldTypeString
)
-
MinPS
(
alias: MinPS, type: esriFieldTypeDouble
)
-
MaxPS
(
alias: MaxPS, type: esriFieldTypeDouble
)
-
LowPS
(
alias: LowPS, type: esriFieldTypeDouble
)
-
HighPS
(
alias: HighPS, type: esriFieldTypeDouble
)
-
Category
(
alias: Category, type: esriFieldTypeInteger
, Coded Values:
[0: Unknown]
, [1: Primary]
, [2: Overview]
, ...6 more...
)
-
Tag
(
length: 100, alias: Tag, type: esriFieldTypeString
)
-
GroupName
(
length: 100, alias: GroupName, type: esriFieldTypeString
)
-
ProductName
(
length: 100, alias: ProductName, type: esriFieldTypeString
)
-
CenterX
(
alias: CenterX, type: esriFieldTypeDouble
)
-
CenterY
(
alias: CenterY, type: esriFieldTypeDouble
)
-
ZOrder
(
alias: ZOrder, type: esriFieldTypeInteger
)
-
Shape_Length
(
alias: Shape_Length, type: esriFieldTypeDouble
)
-
Shape_Area
(
alias: Shape_Area, type: esriFieldTypeDouble
)
-
SOrder
(
alias: SOrder, type: esriFieldTypeInteger
)
-
SLevelPS
(
alias: SLevelPS, type: esriFieldTypeDouble
)
Default Mosaic Method: Seamline
Allowed Mosaic Methods: Seamline,NorthWest,Center,LockRaster,ByAttribute,Nadir,Viewpoint,None
SortField:
SortValue: N/A
Mosaic Operator: First
Default Compression Quality: 75
Default Resampling Method: Bilinear
Max Record Count: 1000
Max Image Height: 4100
Max Image Width: 15000
Max Download Image Count: 20
Max Mosaic Image Count: 60
Allow Raster Function: true
Allow Copy: true
Allow Analysis: true
Allow Compute TiePoints: false
Supports Statistics: true
Supports Advanced Queries: true
Use StandardizedQueries: true
Raster Type Infos:
Name: Raster Dataset
Description: Supports all ArcGIS Raster Datasets
Help:
Has Raster Attribute Table: false
Edit Fields Info: N/A
Ownership Based AccessControl For Rasters: N/A
Child Resources:
Info
Histograms
Statistics
Key Properties
Legend
Raster Function Infos
Supported Operations:
Export Image
Query
Identify
Compute Histograms
Compute Statistics Histograms
Get Samples
Compute Class Statistics
Query GPS Info
Find Images
Image to Map
Map to Image
Measure from Image
Image to Map Multiray
Query Boundary
Compute Pixel Location
Compute Angles
Validate
Project