{ "extent": { "ymin": 458680.44315385364, "xmin": 35976.831233190678, "ymax": 635835.65729856817, "xmax": 167659.66285869223, "spatialReference": { "latestWkid": 8213, "wkid": 103404 } }, "blockWidth": 2048, "mosaicOperator": "First", "serviceSourceType": "esriImageServiceSourceTypeMosaicDataset", "hasMultidimensions": false, "maxImageWidth": 15000, "maxRecordCount": 1000, "meanValues": [131.77117062090264], "hasColormap": false, "compressionType": "None", "defaultCompressionQuality": 75, "maxValues": [255], "hasHistograms": true, "datasetFormat": "AMD", "maxImageHeight": 4100, "sortField": "", "bandNames": ["Band_1"], "spatialReference": { "latestWkid": 8213, "wkid": 103404 }, "fullExtent": { "ymin": 458680.44315385364, "xmin": 35976.831233190678, "ymax": 635835.65729856817, "xmax": 167659.66285869223, "spatialReference": { "latestWkid": 8213, "wkid": 103404 } }, "bandCount": 1, "rasterFunctionInfos": [{ "help": "", "name": "None", "description": "A No-Op Function." }], "supportsStatistics": true, "sortableFields": "MinPS,MaxPS,LowPS,HighPS,CenterX,CenterY,ZOrder,Shape_Length,Shape_Area,SOrder,SLevelPS", "minValues": [0], "allowRasterFunction": true, "allowComputeTiePoints": false, "serviceDataType": "esriImageServiceDataTypeGeneric", "supportsAdvancedQueries": true, "maxDownloadSizeLimit": 2048, "currentVersion": 12.1, "sortValue": null, "objectIdField": "OBJECTID", "blockHeight": 256, "initialExtent": { "ymin": 458680.44315385364, "xmin": 35976.831233190678, "ymax": 635835.65729856817, "xmax": 167659.66285869223, "spatialReference": { "latestWkid": 8213, "wkid": 103404 } }, "pixelSizeX": 0.64465086221912937, "pixelSizeY": 0.64465086221912948, "defaultMosaicMethod": "Seamline", "name": "AerialImagery/AerialPhotos_1967", "allowedMosaicMethods": "Seamline,NorthWest,Center,LockRaster,ByAttribute,Nadir,Viewpoint,None", "maxDownloadImageCount": 20, "fields": [ { "domain": null, "name": "OBJECTID", "alias": "OBJECTID", "type": "esriFieldTypeOID" }, { "domain": null, "name": "Shape", "alias": "Shape", "type": "esriFieldTypeGeometry" }, { "domain": null, "name": "Name", "length": 200, "alias": "Name", "type": "esriFieldTypeString" }, { "domain": null, "name": "MinPS", "alias": "MinPS", "type": "esriFieldTypeDouble" }, { "domain": null, "name": "MaxPS", "alias": "MaxPS", "type": "esriFieldTypeDouble" }, { "domain": null, "name": "LowPS", "alias": "LowPS", "type": "esriFieldTypeDouble" }, { "domain": null, "name": "HighPS", "alias": "HighPS", "type": "esriFieldTypeDouble" }, { "domain": { "splitPolicy": "esriSPTDefaultValue", "name": "MosaicCatalogItemCategoryDomain", "description": "Catalog item categories.", "type": "codedValue", "codedValues": [ { "code": 0, "name": "Unknown" }, { "code": 1, "name": "Primary" }, { "code": 2, "name": "Overview" }, { "code": 3, "name": "Unprocessed Overview" }, { "code": 4, "name": "Partial Overview" }, { "code": 5, "name": "Inactive" }, { "code": 253, "name": "Uploaded" }, { "code": 254, "name": "Incomplete" }, { "code": 255, "name": "Custom" } ], "mergePolicy": "esriMPTDefaultValue" }, "name": "Category", "alias": "Category", "type": "esriFieldTypeInteger" }, { "domain": null, "name": "Tag", "length": 100, "alias": "Tag", "type": "esriFieldTypeString" }, { "domain": null, "name": "GroupName", "length": 100, "alias": "GroupName", "type": "esriFieldTypeString" }, { "domain": null, "name": "ProductName", "length": 100, "alias": "ProductName", "type": "esriFieldTypeString" }, { "domain": null, "name": "CenterX", "alias": "CenterX", "type": "esriFieldTypeDouble" }, { "domain": null, "name": "CenterY", "alias": "CenterY", "type": "esriFieldTypeDouble" }, { "domain": null, "name": "ZOrder", "alias": "ZOrder", "type": "esriFieldTypeInteger" }, { "domain": null, "name": "Shape_Length", "alias": "Shape_Length", "type": "esriFieldTypeDouble" }, { "domain": null, "name": "Shape_Area", "alias": "Shape_Area", "type": "esriFieldTypeDouble" }, { "domain": null, "name": "SOrder", "alias": "SOrder", "type": "esriFieldTypeInteger" }, { "domain": null, "name": "SLevelPS", "alias": "SLevelPS", "type": "esriFieldTypeDouble" } ], "allowAnalysis": true, "hasRasterAttributeTable": false, "useStandardizedQueries": true, "description": "
Digital aerial photo mosaic covering Brown County Wisconsin created from scanned photos from year 1967. Laminated hard copy photos located in the Brown County Planning & Land Services (PALS) Department were scanned and digitally georeferenced using ArcGIS Pro in 2023 by PALS interns. Hard copy photo scale was 1:20,000. Scans were done at 600 dpi yielding a ground resolution of approximately 0.7 feet. To produce this digital dataset, individual 1967 photos were registered to common points on more recent orthophotos. This is not a true orthophoto; no DEM was used. Horizontal accuracy of the 1967 mosaic dataset varies but is generally less than 20 feet in most places. <\/SPAN><\/P><\/DIV><\/DIV><\/DIV>",
"pixelType": "U8",
"meanPixelSize": 0.19648997578434221,
"exportTilesAllowed": false,
"editFieldsInfo": null,
"rasterTypeInfos": [{
"help": "",
"name": "Raster Dataset",
"description": "Supports all ArcGIS Raster Datasets"
}],
"defaultResamplingMethod": "Bilinear",
"itemAccess": false,
"minScale": 0,
"serviceProperties": " Digital aerial photo mosaic covering Brown County Wisconsin created from scanned photos from year 1967. Laminated hard copy photos located in the Brown County Planning & Land Services (PALS) Department were scanned and digitally georeferenced using ArcGIS Pro in 2023 by PALS interns. Hard copy photo scale was 1:20,000. Scans were done at 600 dpi yielding a ground resolution of approximately 0.7 feet. To produce this digital dataset, individual 1967 photos were registered to common points on more recent orthophotos. This is not a true orthophoto; no DEM was used. Horizontal accuracy of the 1967 mosaic dataset varies but is generally less than 20 feet in most places. <\/SPAN><\/P><\/DIV><\/DIV><\/DIV>",
"allowCopy": true,
"copyrightText": "Brown County Wisconsin",
"mensurationCapabilities": "None",
"ownershipBasedAccessControlForRasters": null
}