View In:
ArcGIS JavaScript
ArcGIS Online Map Viewer
ArcGIS Earth
Service Description: Digital orthophotography created from scanned 1"=1667' (1:20,000 scale) photos from year 1938. NARA (National Archives and Records Administration) provided the original photo scans. Scans were done at 15 micron resolution giving a 1-foot pixel ground resolution. To produce this dataset, individual 1938 photos were registered to common points on more recent orthophotos, draped over a digital terrain model, and rectified using bilinear resampling to 1-foot pixels. Horizontal accuracy of the 1938 orthophotography is approximately 20 feet.
Name: AerialImagery/AerialPhotos_1938
Description: Digital orthophotography created from scanned 1"=1667' (1:20,000 scale) photos from year 1938. NARA (National Archives and Records Administration) provided the original photo scans. Scans were done at 15 micron resolution giving a 1-foot pixel ground resolution. To produce this dataset, individual 1938 photos were registered to common points on more recent orthophotos, draped over a digital terrain model, and rectified using bilinear resampling to 1-foot pixels. Horizontal accuracy of the 1938 orthophotography is approximately 20 feet.
Single Fused Map Cache: false
Extent:
XMin: 37177.40000000001
YMin: 466892.9
XMax: 166106.3999999999
YMax: 628120.8999999999
Spatial Reference: 103404
(8213)
Initial Extent:
XMin: 37177.40000000001
YMin: 466892.9
XMax: 166106.3999999999
YMax: 628120.8999999999
Spatial Reference: 103404
(8213)
Full Extent:
XMin: 37177.40000000001
YMin: 466892.9
XMax: 166106.3999999999
YMax: 628120.8999999999
Spatial Reference: 103404
(8213)
Pixel Size X: 0.9999999999999992
Pixel Size Y: 0.9999999999999992
Band Count: 1
Pixel Type: U8
RasterFunction Infos: {"rasterFunctionInfos": [{
"help": "",
"name": "None",
"description": ""
}]}
Mensuration Capabilities: None
Inspection Capabilities:
Has Histograms: true
Has Colormap: false
Has Multi Dimensions : false
Rendering Rule:
Min Scale: 0
Max Scale: 0
Copyright Text: Brown County Wisconsin, National Archives and Records Administration (NARA)
Service Data Type: esriImageServiceDataTypeGeneric
Min Values: 48
Max Values: 255
Mean Values: 183.48826466439425
Standard Deviation Values: 33.055709160901024
Object ID Field: OBJECTID
Fields:
-
OBJECTID
(
alias: OBJECTID, type: esriFieldTypeOID
)
-
Shape
(
alias: Shape, type: esriFieldTypeGeometry
)
-
Name
(
length: 200, alias: Name, type: esriFieldTypeString
)
-
MinPS
(
alias: MinPS, type: esriFieldTypeDouble
)
-
MaxPS
(
alias: MaxPS, type: esriFieldTypeDouble
)
-
LowPS
(
alias: LowPS, type: esriFieldTypeDouble
)
-
HighPS
(
alias: HighPS, type: esriFieldTypeDouble
)
-
Category
(
alias: Category, type: esriFieldTypeInteger
, Coded Values:
[0: Unknown]
, [1: Primary]
, [2: Overview]
, ...6 more...
)
-
Tag
(
length: 100, alias: Tag, type: esriFieldTypeString
)
-
GroupName
(
length: 100, alias: GroupName, type: esriFieldTypeString
)
-
ProductName
(
length: 100, alias: ProductName, type: esriFieldTypeString
)
-
CenterX
(
alias: CenterX, type: esriFieldTypeDouble
)
-
CenterY
(
alias: CenterY, type: esriFieldTypeDouble
)
-
ZOrder
(
alias: ZOrder, type: esriFieldTypeInteger
)
-
Shape_Length
(
alias: Shape_Length, type: esriFieldTypeDouble
)
-
Shape_Area
(
alias: Shape_Area, type: esriFieldTypeDouble
)
Default Mosaic Method: Northwest
Allowed Mosaic Methods: NorthWest,Center,LockRaster,ByAttribute,Nadir,Viewpoint,Seamline,None
SortField:
SortValue: N/A
Mosaic Operator: First
Default Compression Quality: 75
Default Resampling Method: Bilinear
Max Record Count: 1000
Max Image Height: 4100
Max Image Width: 15000
Max Download Image Count: 20
Max Mosaic Image Count: 60
Allow Raster Function: true
Allow Copy: true
Allow Analysis: true
Allow Compute TiePoints: false
Supports Statistics: true
Supports Advanced Queries: true
Use StandardizedQueries: true
Raster Type Infos:
Name: Raster Dataset
Description: Supports all ArcGIS Raster Datasets
Help:
Has Raster Attribute Table: false
Edit Fields Info: N/A
Ownership Based AccessControl For Rasters: N/A
Child Resources:
Info
Histograms
Statistics
Key Properties
Legend
Raster Function Infos
Supported Operations:
Export Image
Query
Identify
Compute Histograms
Compute Statistics Histograms
Get Samples
Compute Class Statistics
Query GPS Info
Find Images
Image to Map
Map to Image
Measure from Image
Image to Map Multiray
Query Boundary
Compute Pixel Location
Compute Angles
Validate
Project