{ "extent": { "ymin": 466892.90000000002, "xmin": 37177.400000000009, "ymax": 628120.89999999991, "xmax": 166106.39999999991, "spatialReference": { "latestWkid": 8213, "wkid": 103404 } }, "blockWidth": 2048, "mosaicOperator": "First", "serviceSourceType": "esriImageServiceSourceTypeMosaicDataset", "hasMultidimensions": false, "maxImageWidth": 15000, "maxRecordCount": 1000, "meanValues": [183.48826466439425], "hasColormap": false, "compressionType": "None", "defaultCompressionQuality": 75, "maxValues": [255], "hasHistograms": true, "datasetFormat": "AMD", "maxImageHeight": 4100, "sortField": "", "bandNames": ["Band_1"], "spatialReference": { "latestWkid": 8213, "wkid": 103404 }, "fullExtent": { "ymin": 466892.90000000002, "xmin": 37177.400000000009, "ymax": 628120.89999999991, "xmax": 166106.39999999991, "spatialReference": { "latestWkid": 8213, "wkid": 103404 } }, "bandCount": 1, "rasterFunctionInfos": [{ "help": "", "name": "None", "description": "" }], "supportsStatistics": true, "sortableFields": "MinPS,MaxPS,LowPS,HighPS,CenterX,CenterY,ZOrder,Shape_Length,Shape_Area", "minValues": [48], "allowRasterFunction": true, "allowComputeTiePoints": false, "serviceDataType": "esriImageServiceDataTypeGeneric", "supportsAdvancedQueries": true, "maxDownloadSizeLimit": 2048, "currentVersion": 12.1, "sortValue": null, "objectIdField": "OBJECTID", "blockHeight": 256, "initialExtent": { "ymin": 466892.90000000002, "xmin": 37177.400000000009, "ymax": 628120.89999999991, "xmax": 166106.39999999991, "spatialReference": { "latestWkid": 8213, "wkid": 103404 } }, "pixelSizeX": 0.99999999999999922, "pixelSizeY": 0.99999999999999922, "defaultMosaicMethod": "Northwest", "name": "AerialImagery/AerialPhotos_1938", "allowedMosaicMethods": "NorthWest,Center,LockRaster,ByAttribute,Nadir,Viewpoint,Seamline,None", "maxDownloadImageCount": 20, "fields": [ { "domain": null, "name": "OBJECTID", "alias": "OBJECTID", "type": "esriFieldTypeOID" }, { "domain": null, "name": "Shape", "alias": "Shape", "type": "esriFieldTypeGeometry" }, { "domain": null, "name": "Name", "length": 200, "alias": "Name", "type": "esriFieldTypeString" }, { "domain": null, "name": "MinPS", "alias": "MinPS", "type": "esriFieldTypeDouble" }, { "domain": null, "name": "MaxPS", "alias": "MaxPS", "type": "esriFieldTypeDouble" }, { "domain": null, "name": "LowPS", "alias": "LowPS", "type": "esriFieldTypeDouble" }, { "domain": null, "name": "HighPS", "alias": "HighPS", "type": "esriFieldTypeDouble" }, { "domain": { "splitPolicy": "esriSPTDefaultValue", "name": "MosaicCatalogItemCategoryDomain", "description": "Catalog item categories.", "type": "codedValue", "codedValues": [ { "code": 0, "name": "Unknown" }, { "code": 1, "name": "Primary" }, { "code": 2, "name": "Overview" }, { "code": 3, "name": "Unprocessed Overview" }, { "code": 4, "name": "Partial Overview" }, { "code": 5, "name": "Inactive" }, { "code": 253, "name": "Uploaded" }, { "code": 254, "name": "Incomplete" }, { "code": 255, "name": "Custom" } ], "mergePolicy": "esriMPTDefaultValue" }, "name": "Category", "alias": "Category", "type": "esriFieldTypeInteger" }, { "domain": null, "name": "Tag", "length": 100, "alias": "Tag", "type": "esriFieldTypeString" }, { "domain": null, "name": "GroupName", "length": 100, "alias": "GroupName", "type": "esriFieldTypeString" }, { "domain": null, "name": "ProductName", "length": 100, "alias": "ProductName", "type": "esriFieldTypeString" }, { "domain": null, "name": "CenterX", "alias": "CenterX", "type": "esriFieldTypeDouble" }, { "domain": null, "name": "CenterY", "alias": "CenterY", "type": "esriFieldTypeDouble" }, { "domain": null, "name": "ZOrder", "alias": "ZOrder", "type": "esriFieldTypeInteger" }, { "domain": null, "name": "Shape_Length", "alias": "Shape_Length", "type": "esriFieldTypeDouble" }, { "domain": null, "name": "Shape_Area", "alias": "Shape_Area", "type": "esriFieldTypeDouble" } ], "allowAnalysis": true, "hasRasterAttributeTable": false, "useStandardizedQueries": true, "description": "
Digital orthophotography created from scanned 1\"=1667' (1:20,000 scale) photos from year 1938. NARA (National Archives and Records Administration) provided the original photo scans. Scans were done at 15 micron resolution giving a 1-foot pixel ground resolution. To produce this dataset, individual 1938 photos were registered to common points on more recent orthophotos, draped over a digital terrain model, and rectified using bilinear resampling to 1-foot pixels. Horizontal accuracy of the 1938 orthophotography is approximately 20 feet.<\/SPAN><\/P><\/DIV><\/DIV><\/DIV>",
"pixelType": "U8",
"meanPixelSize": 0.30480060960121902,
"exportTilesAllowed": false,
"editFieldsInfo": null,
"rasterTypeInfos": [{
"help": "",
"name": "Raster Dataset",
"description": "Supports all ArcGIS Raster Datasets"
}],
"defaultResamplingMethod": "Bilinear",
"itemAccess": false,
"minScale": 0,
"serviceProperties": " Digital orthophotography created from scanned 1\"=1667' (1:20,000 scale) photos from year 1938. NARA (National Archives and Records Administration) provided the original photo scans. Scans were done at 15 micron resolution giving a 1-foot pixel ground resolution. To produce this dataset, individual 1938 photos were registered to common points on more recent orthophotos, draped over a digital terrain model, and rectified using bilinear resampling to 1-foot pixels. Horizontal accuracy of the 1938 orthophotography is approximately 20 feet.<\/SPAN><\/P><\/DIV><\/DIV><\/DIV>",
"allowCopy": true,
"copyrightText": "Brown County Wisconsin, National Archives and Records Administration (NARA)",
"mensurationCapabilities": "None",
"ownershipBasedAccessControlForRasters": null
}