View In:
ArcGIS JavaScript
ArcGIS Online Map Viewer
ArcGIS Earth
Service Description: Topographic/Hillshade_az315_alt45
Name: Topographic/Hillshade_az315_alt45
Description:
Single Fused Map Cache: false
Extent:
XMin: 32892.49537895
YMin: 465494.081208992
XMax: 167892.49537894825
YMax: 631994.0812089898
Spatial Reference: 7591
(7591)
VCSWkid(105703)
LatestVCSWkid(6360)
Initial Extent:
XMin: 32892.49537895
YMin: 465494.081208992
XMax: 167892.49537894825
YMax: 631994.0812089898
Spatial Reference: 7591
(7591)
VCSWkid(105703)
LatestVCSWkid(6360)
Full Extent:
XMin: 32892.49537895
YMin: 465494.081208992
XMax: 167892.49537894825
YMax: 631994.0812089898
Spatial Reference: 7591
(7591)
VCSWkid(105703)
LatestVCSWkid(6360)
Pixel Size X: 0.999999999999987
Pixel Size Y: 0.999999999999987
Band Count: 1
Pixel Type: U8
RasterFunction Infos: {"rasterFunctionInfos": [{
"help": "",
"name": "None",
"description": ""
}]}
Mensuration Capabilities: Basic
Inspection Capabilities:
Has Histograms: true
Has Colormap: false
Has Multi Dimensions : false
Rendering Rule:
Min Scale: 0
Max Scale: 0
Copyright Text:
Service Data Type: esriImageServiceDataTypeGeneric
Min Values: 0
Max Values: 254
Mean Values: 179.17275648264572
Standard Deviation Values: 12.810345680643453
Object ID Field:
Fields:
None
Default Mosaic Method: Center
Allowed Mosaic Methods:
SortField:
SortValue: N/A
Mosaic Operator: First
Default Compression Quality: 75
Default Resampling Method: Bilinear
Max Record Count: null
Max Image Height: 4100
Max Image Width: 15000
Max Download Image Count: null
Max Mosaic Image Count: null
Allow Raster Function: true
Allow Copy: true
Allow Analysis: true
Allow Compute TiePoints: false
Supports Statistics: false
Supports Advanced Queries: false
Use StandardizedQueries: false
Raster Type Infos:
Name: Raster Dataset
Description: Supports all ArcGIS Raster Datasets
Help:
Has Raster Attribute Table: true
Edit Fields Info: N/A
Ownership Based AccessControl For Rasters: N/A
Child Resources:
Info
Raster Attribute Table
Histograms
Statistics
Key Properties
Legend
Raster Function Infos
Supported Operations:
Export Image
Identify
Measure
Compute Histograms
Compute Statistics Histograms
Get Samples
Compute Class Statistics
Query Boundary
Compute Pixel Location
Compute Angles
Validate
Project