View In:
ArcGIS JavaScript
ArcGIS Online Map Viewer
ArcGIS Earth
Service Description: Archives/BrownCountyWI_1900_PlatBook
Name: Archives/BrownCountyWI_1900_PlatBook
Description:
Single Fused Map Cache: false
Extent:
XMin: 34420.96734414407
YMin: 462276.06420448667
XMax: 169230.58690424217
YMax: 631094.9215881153
Spatial Reference: 103404
(8213)
Initial Extent:
XMin: 34420.96734414407
YMin: 462276.06420448667
XMax: 169230.58690424217
YMax: 631094.9215881153
Spatial Reference: 103404
(8213)
Full Extent:
XMin: 34420.96734414407
YMin: 462276.06420448667
XMax: 169230.58690424217
YMax: 631094.9215881153
Spatial Reference: 103404
(8213)
Pixel Size X: 11.942737381298556
Pixel Size Y: 11.96448315971854
Band Count: 3
Pixel Type: U8
RasterFunction Infos: {"rasterFunctionInfos": [{
"help": "",
"name": "None",
"description": ""
}]}
Mensuration Capabilities: Basic
Inspection Capabilities:
Has Histograms: true
Has Colormap: false
Has Multi Dimensions : false
Rendering Rule:
Min Scale: 0
Max Scale: 0
Copyright Text:
Service Data Type: esriImageServiceDataTypeRGB
Min Values: 0, 0, 0
Max Values: 255, 255, 253
Mean Values: 189.73212053617999, 168.57835320940001, 136.10541752406999
Standard Deviation Values: 51.284455810699001, 46.242896695629, 37.805942238848999
Object ID Field:
Fields:
None
Default Mosaic Method: Center
Allowed Mosaic Methods:
SortField:
SortValue: N/A
Mosaic Operator: First
Default Compression Quality: 75
Default Resampling Method: Bilinear
Max Record Count: null
Max Image Height: 4100
Max Image Width: 15000
Max Download Image Count: null
Max Mosaic Image Count: null
Allow Raster Function: true
Allow Copy: true
Allow Analysis: true
Allow Compute TiePoints: false
Supports Statistics: false
Supports Advanced Queries: false
Use StandardizedQueries: false
Raster Type Infos:
Name: Raster Dataset
Description: Supports all ArcGIS Raster Datasets
Help:
Has Raster Attribute Table: false
Edit Fields Info: N/A
Ownership Based AccessControl For Rasters: N/A
Child Resources:
Info
Histograms
Statistics
Key Properties
Legend
Raster Function Infos
Supported Operations:
Export Image
Identify
Measure
Compute Histograms
Compute Statistics Histograms
Get Samples
Compute Class Statistics
Query Boundary
Compute Pixel Location
Compute Angles
Validate
Project