View In:
ArcGIS JavaScript
ArcGIS Online Map Viewer
ArcGIS Earth
Service Description: Digital orthophotography of Brown County Wisconsin from the Spring 2017: The imagery was collected between April 7 and May 10 2017 using an UltraCam Eagle sensor mounted on an aircraft. TIF images are 4-band color. Ground resolution is 0.5 feet (6 inches). Spatial accuracy of the orthophotos was analyzed and shown to meet ASPRS Class 1 standards for 1” = 100’ scale mapping. The orthophoto map meets a horizontal accuracy of +/- 1 foot RMSE at a 95% confidence level (according to the NSSDA standard necessary for 1” = 100’ mapping). Orthophotography was produced by Sanborn Map Company under contract by Brown County WI.
Name: AerialImagery/AerialPhotos_2017AprilMay
Description: Digital orthophotography of Brown County Wisconsin from the Spring 2017: The imagery was collected between April 7 and May 10 2017 using an UltraCam Eagle sensor mounted on an aircraft. TIF images are 4-band color. Ground resolution is 0.5 feet (6 inches). Spatial accuracy of the orthophotos was analyzed and shown to meet ASPRS Class 1 standards for 1” = 100’ scale mapping. The orthophoto map meets a horizontal accuracy of +/- 1 foot RMSE at a 95% confidence level (according to the NSSDA standard necessary for 1” = 100’ mapping). Orthophotography was produced by Sanborn Map Company under contract by Brown County WI.
Single Fused Map Cache: false
Extent:
XMin: 32420.0
YMin: 464480.0
XMax: 168310.0
YMax: 633070.0
Spatial Reference: PROJCS["NAD_1983_HARN_WISCRS_Brown_County_Feet",GEOGCS["GCS_North_American_1983_HARN",DATUM["D_North_American_1983_HARN",SPHEROID["GRS_1980",6378137.0,298.257222101]],PRIMEM["Greenwich",0.0],UNIT["Degree",0.0174532925199433]],PROJECTION["Transverse_Mercator"],PARAMETER["False_Easting",103674.333],PARAMETER["False_Northing",15091.833],PARAMETER["Central_Meridian",-88.0],PARAMETER["Scale_Factor",1.00002],PARAMETER["Latitude_Of_Origin",43.0],UNIT["Foot_US",0.3048006096012192]],VERTCS["NAVD88 height - Geoid12B (ftUS)",VDATUM["North American Vertical Datum 1988"],PARAMETER["Vertical_Shift",0.0],PARAMETER["Direction",1.0],UNIT["US survey foot",0.3048006096012192]]
Initial Extent:
XMin: 32420.0
YMin: 464480.0
XMax: 168310.0
YMax: 633070.0
Spatial Reference: PROJCS["NAD_1983_HARN_WISCRS_Brown_County_Feet",GEOGCS["GCS_North_American_1983_HARN",DATUM["D_North_American_1983_HARN",SPHEROID["GRS_1980",6378137.0,298.257222101]],PRIMEM["Greenwich",0.0],UNIT["Degree",0.0174532925199433]],PROJECTION["Transverse_Mercator"],PARAMETER["False_Easting",103674.333],PARAMETER["False_Northing",15091.833],PARAMETER["Central_Meridian",-88.0],PARAMETER["Scale_Factor",1.00002],PARAMETER["Latitude_Of_Origin",43.0],UNIT["Foot_US",0.3048006096012192]],VERTCS["NAVD88 height - Geoid12B (ftUS)",VDATUM["North American Vertical Datum 1988"],PARAMETER["Vertical_Shift",0.0],PARAMETER["Direction",1.0],UNIT["US survey foot",0.3048006096012192]]
Full Extent:
XMin: 32420.0
YMin: 464480.0
XMax: 168310.0
YMax: 633070.0
Spatial Reference: PROJCS["NAD_1983_HARN_WISCRS_Brown_County_Feet",GEOGCS["GCS_North_American_1983_HARN",DATUM["D_North_American_1983_HARN",SPHEROID["GRS_1980",6378137.0,298.257222101]],PRIMEM["Greenwich",0.0],UNIT["Degree",0.0174532925199433]],PROJECTION["Transverse_Mercator"],PARAMETER["False_Easting",103674.333],PARAMETER["False_Northing",15091.833],PARAMETER["Central_Meridian",-88.0],PARAMETER["Scale_Factor",1.00002],PARAMETER["Latitude_Of_Origin",43.0],UNIT["Foot_US",0.3048006096012192]],VERTCS["NAVD88 height - Geoid12B (ftUS)",VDATUM["North American Vertical Datum 1988"],PARAMETER["Vertical_Shift",0.0],PARAMETER["Direction",1.0],UNIT["US survey foot",0.3048006096012192]]
Pixel Size X: 0.5
Pixel Size Y: 0.5
Band Count: 4
Pixel Type: U8
RasterFunction Infos: {"rasterFunctionInfos": [{
"help": "",
"name": "None",
"description": ""
}]}
Mensuration Capabilities: None
Inspection Capabilities:
Has Histograms: true
Has Colormap: false
Has Multi Dimensions : false
Rendering Rule:
Min Scale: 0
Max Scale: 0
Copyright Text: Brown County Wisconsin
Service Data Type: esriImageServiceDataTypeGeneric
Min Values: 3, 6, 8, 1
Max Values: 253, 253, 253, 254
Mean Values: 102.16120564923875, 100.53790189375006, 87.255701097324604, 153.91494769459052
Standard Deviation Values: 36.61177470684428, 28.417387343810205, 24.248344328687381, 46.879011018613838
Object ID Field: OBJECTID
Fields:
-
OBJECTID
(
alias: OBJECTID, type: esriFieldTypeOID
)
-
Shape
(
alias: Shape, type: esriFieldTypeGeometry
)
-
Name
(
length: 200, alias: Name, type: esriFieldTypeString
)
-
MinPS
(
alias: MinPS, type: esriFieldTypeDouble
)
-
MaxPS
(
alias: MaxPS, type: esriFieldTypeDouble
)
-
LowPS
(
alias: LowPS, type: esriFieldTypeDouble
)
-
HighPS
(
alias: HighPS, type: esriFieldTypeDouble
)
-
Category
(
alias: Category, type: esriFieldTypeInteger
, Coded Values:
[0: Unknown]
, [1: Primary]
, [2: Overview]
, ...6 more...
)
-
Tag
(
length: 100, alias: Tag, type: esriFieldTypeString
)
-
GroupName
(
length: 100, alias: GroupName, type: esriFieldTypeString
)
-
ProductName
(
length: 100, alias: ProductName, type: esriFieldTypeString
)
-
CenterX
(
alias: CenterX, type: esriFieldTypeDouble
)
-
CenterY
(
alias: CenterY, type: esriFieldTypeDouble
)
-
ZOrder
(
alias: ZOrder, type: esriFieldTypeInteger
)
-
Shape_Length
(
alias: Shape_Length, type: esriFieldTypeDouble
)
-
Shape_Area
(
alias: Shape_Area, type: esriFieldTypeDouble
)
Default Mosaic Method: Northwest
Allowed Mosaic Methods: NorthWest,Center,LockRaster,ByAttribute,Nadir,Viewpoint,Seamline,None
SortField:
SortValue: N/A
Mosaic Operator: First
Default Compression Quality: 75
Default Resampling Method: Bilinear
Max Record Count: 1000
Max Image Height: 4100
Max Image Width: 15000
Max Download Image Count: 20
Max Mosaic Image Count: 20
Allow Raster Function: true
Allow Copy: true
Allow Analysis: true
Allow Compute TiePoints: false
Supports Statistics: true
Supports Advanced Queries: true
Use StandardizedQueries: true
Raster Type Infos:
Name: Raster Dataset
Description: Supports all ArcGIS Raster Datasets
Help:
Has Raster Attribute Table: false
Edit Fields Info: N/A
Ownership Based AccessControl For Rasters: N/A
Child Resources:
Info
Histograms
Statistics
Key Properties
Legend
Raster Function Infos
Supported Operations:
Export Image
Query
Identify
Compute Histograms
Compute Statistics Histograms
Get Samples
Compute Class Statistics
Query GPS Info
Find Images
Image to Map
Map to Image
Measure from Image
Image to Map Multiray
Query Boundary
Compute Pixel Location
Compute Angles
Validate
Project