View In:
ArcGIS JavaScript
ArcGIS Online Map Viewer
ArcGIS Earth
Service Description: Digital orthophotography of Brown County Wisconsin from the Spring 2014. The imagery was collected between May 5 and May 2014 using an ADS-100 sensor mounted on an aircraft. TIF images are 4-band color. Ground resolution is 0.5 feet (6 inches). Spatial accuracy of the orthophotos was tested and meets ASPRS Class 1 standards for 1” = 100’ scale mapping. The orthophoto map meets a horizontal accuracy of +/- 1 foot RMSE at a 95% confidence level (according to the NSSDA standard necessary for 1” = 100’ mapping. Orthophotography was flown and produced by Surdex under contract with Brown County WI
Name: AerialImagery/AerialPhotos_2014May
Description: Digital orthophotography of Brown County Wisconsin from the Spring 2014. The imagery was collected between May 5 and May 2014 using an ADS-100 sensor mounted on an aircraft. TIF images are 4-band color. Ground resolution is 0.5 feet (6 inches). Spatial accuracy of the orthophotos was tested and meets ASPRS Class 1 standards for 1” = 100’ scale mapping. The orthophoto map meets a horizontal accuracy of +/- 1 foot RMSE at a 95% confidence level (according to the NSSDA standard necessary for 1” = 100’ mapping. Orthophotography was flown and produced by Surdex under contract with Brown County WI
Single Fused Map Cache: false
Extent:
XMin: 30122.0
YMin: 467030.0
XMax: 165660.0
YMax: 630487.5
Spatial Reference: 103404
(8213)
Initial Extent:
XMin: 30122.0
YMin: 467030.0
XMax: 165660.0
YMax: 630487.5
Spatial Reference: 103404
(8213)
Full Extent:
XMin: 30122.0
YMin: 467030.0
XMax: 165660.0
YMax: 630487.5
Spatial Reference: 103404
(8213)
Pixel Size X: 0.5
Pixel Size Y: 0.5
Band Count: 4
Pixel Type: U8
RasterFunction Infos: {"rasterFunctionInfos": [{
"help": "",
"name": "None",
"description": ""
}]}
Mensuration Capabilities: None
Inspection Capabilities:
Has Histograms: true
Has Colormap: false
Has Multi Dimensions : false
Rendering Rule:
Min Scale: 0
Max Scale: 0
Copyright Text: Brown County Wisconsin
Service Data Type: esriImageServiceDataTypeGeneric
Min Values: 16, 19, 17, 2
Max Values: 255, 255, 255, 255
Mean Values: 109.2183182682446, 106.22581764296012, 87.387321121687464, 118.8304754041494
Standard Deviation Values: 37.917245880876344, 30.787508292571392, 30.220814087553979, 41.442026385382889
Object ID Field: OBJECTID
Fields:
-
OBJECTID
(
alias: OBJECTID, type: esriFieldTypeOID
)
-
Shape
(
alias: Shape, type: esriFieldTypeGeometry
)
-
Name
(
length: 200, alias: Name, type: esriFieldTypeString
)
-
MinPS
(
alias: MinPS, type: esriFieldTypeDouble
)
-
MaxPS
(
alias: MaxPS, type: esriFieldTypeDouble
)
-
LowPS
(
alias: LowPS, type: esriFieldTypeDouble
)
-
HighPS
(
alias: HighPS, type: esriFieldTypeDouble
)
-
Category
(
alias: Category, type: esriFieldTypeInteger
, Coded Values:
[0: Unknown]
, [1: Primary]
, [2: Overview]
, ...6 more...
)
-
Tag
(
length: 100, alias: Tag, type: esriFieldTypeString
)
-
GroupName
(
length: 100, alias: GroupName, type: esriFieldTypeString
)
-
ProductName
(
length: 100, alias: ProductName, type: esriFieldTypeString
)
-
CenterX
(
alias: CenterX, type: esriFieldTypeDouble
)
-
CenterY
(
alias: CenterY, type: esriFieldTypeDouble
)
-
ZOrder
(
alias: ZOrder, type: esriFieldTypeInteger
)
-
Shape_Length
(
alias: Shape_Length, type: esriFieldTypeDouble
)
-
Shape_Area
(
alias: Shape_Area, type: esriFieldTypeDouble
)
Default Mosaic Method: Northwest
Allowed Mosaic Methods: NorthWest,Center,LockRaster,ByAttribute,Nadir,Viewpoint,Seamline,None
SortField:
SortValue: N/A
Mosaic Operator: First
Default Compression Quality: 75
Default Resampling Method: Bilinear
Max Record Count: 1000
Max Image Height: 4100
Max Image Width: 15000
Max Download Image Count: 20
Max Mosaic Image Count: 20
Allow Raster Function: true
Allow Copy: true
Allow Analysis: true
Allow Compute TiePoints: false
Supports Statistics: true
Supports Advanced Queries: true
Use StandardizedQueries: true
Raster Type Infos:
Name: Raster Dataset
Description: Supports all ArcGIS Raster Datasets
Help:
Has Raster Attribute Table: false
Edit Fields Info: N/A
Ownership Based AccessControl For Rasters: N/A
Child Resources:
Info
Histograms
Statistics
Key Properties
Legend
Raster Function Infos
Supported Operations:
Export Image
Query
Identify
Compute Histograms
Compute Statistics Histograms
Get Samples
Compute Class Statistics
Query GPS Info
Find Images
Image to Map
Map to Image
Measure from Image
Image to Map Multiray
Query Boundary
Compute Pixel Location
Compute Angles
Validate
Project