View In:
ArcGIS JavaScript
ArcGIS Online Map Viewer
ArcGIS Earth
Service Description: Digital orthophotography of Brown County Wisconsin from the Spring 2005 aerial flyover. Ground resolution is 6 inches. Horizontal accuracy is approximately 0.5 feet (6 inches). Black & White imagery. Aerial photography was flown by Ayres Associates (Madison WI).
Name: AerialImagery/AerialPhotos_2005April
Description: Digital orthophotography of Brown County Wisconsin from the Spring 2005 aerial flyover. Ground resolution is 6 inches. Horizontal accuracy is approximately 0.5 feet (6 inches). Black & White imagery. Aerial photography was flown by Ayres Associates (Madison WI).
Single Fused Map Cache: false
Extent:
XMin: 37675.97039499506
YMin: 466940.1359280056
XMax: 165701.47039126803
YMax: 627943.6359233186
Spatial Reference: 103404
(8213)
Initial Extent:
XMin: 37675.97039499506
YMin: 466940.1359280056
XMax: 165701.47039126803
YMax: 627943.6359233186
Spatial Reference: 103404
(8213)
Full Extent:
XMin: 37675.97039499506
YMin: 466940.1359280056
XMax: 165701.47039126803
YMax: 627943.6359233186
Spatial Reference: 103404
(8213)
Pixel Size X: 0.49999999998544414
Pixel Size Y: 0.49999999998544425
Band Count: 1
Pixel Type: U8
RasterFunction Infos: {"rasterFunctionInfos": [{
"help": "",
"name": "None",
"description": ""
}]}
Mensuration Capabilities: None
Inspection Capabilities:
Has Histograms: true
Has Colormap: false
Has Multi Dimensions : false
Rendering Rule:
Min Scale: 0
Max Scale: 0
Copyright Text: Brown County Wisconsin
Service Data Type: esriImageServiceDataTypeGeneric
Min Values: 3
Max Values: 255
Mean Values: 135.12641483198701
Standard Deviation Values: 30.745760961850433
Object ID Field: OBJECTID
Fields:
-
OBJECTID
(
alias: OBJECTID, type: esriFieldTypeOID
)
-
Shape
(
alias: Shape, type: esriFieldTypeGeometry
)
-
Name
(
length: 200, alias: Name, type: esriFieldTypeString
)
-
MinPS
(
alias: MinPS, type: esriFieldTypeDouble
)
-
MaxPS
(
alias: MaxPS, type: esriFieldTypeDouble
)
-
LowPS
(
alias: LowPS, type: esriFieldTypeDouble
)
-
HighPS
(
alias: HighPS, type: esriFieldTypeDouble
)
-
Category
(
alias: Category, type: esriFieldTypeInteger
, Coded Values:
[0: Unknown]
, [1: Primary]
, [2: Overview]
, ...6 more...
)
-
Tag
(
length: 100, alias: Tag, type: esriFieldTypeString
)
-
GroupName
(
length: 100, alias: GroupName, type: esriFieldTypeString
)
-
ProductName
(
length: 100, alias: ProductName, type: esriFieldTypeString
)
-
CenterX
(
alias: CenterX, type: esriFieldTypeDouble
)
-
CenterY
(
alias: CenterY, type: esriFieldTypeDouble
)
-
ZOrder
(
alias: ZOrder, type: esriFieldTypeInteger
)
-
Shape_Length
(
alias: Shape_Length, type: esriFieldTypeDouble
)
-
Shape_Area
(
alias: Shape_Area, type: esriFieldTypeDouble
)
Default Mosaic Method: Northwest
Allowed Mosaic Methods: NorthWest,Center,LockRaster,ByAttribute,Nadir,Viewpoint,Seamline,None
SortField:
SortValue: N/A
Mosaic Operator: First
Default Compression Quality: 75
Default Resampling Method: Bilinear
Max Record Count: 1000
Max Image Height: 4100
Max Image Width: 15000
Max Download Image Count: 20
Max Mosaic Image Count: 20
Allow Raster Function: true
Allow Copy: true
Allow Analysis: true
Allow Compute TiePoints: false
Supports Statistics: true
Supports Advanced Queries: true
Use StandardizedQueries: true
Raster Type Infos:
Name: Raster Dataset
Description: Supports all ArcGIS Raster Datasets
Help:
Has Raster Attribute Table: false
Edit Fields Info: N/A
Ownership Based AccessControl For Rasters: N/A
Child Resources:
Info
Histograms
Statistics
Key Properties
Legend
Raster Function Infos
Supported Operations:
Export Image
Query
Identify
Compute Histograms
Compute Statistics Histograms
Get Samples
Compute Class Statistics
Query GPS Info
Find Images
Image to Map
Map to Image
Measure from Image
Image to Map Multiray
Query Boundary
Compute Pixel Location
Compute Angles
Validate
Project