View In:
ArcGIS JavaScript
ArcGIS Online Map Viewer
ArcGIS Earth
Service Description: Digital Orthophotography of Brown County Wisconsin created from scanned 1”=1667’ (1:20,000) photos from year 1960. Black & White imagery. Scans obtained from the USDA: Aerial Photography Field Office (APFO) at 12.5 micron resolution. Individual 1960 photos registered to common points on year 2000 SID mosaics draped over Digital Terrain Model from spring 2000, and rectified via bilinear re-sampling to 1’ pixels.
Name: AerialImagery/AerialPhotos_1960
Description: Digital Orthophotography of Brown County Wisconsin created from scanned 1”=1667’ (1:20,000) photos from year 1960. Black & White imagery. Scans obtained from the USDA: Aerial Photography Field Office (APFO) at 12.5 micron resolution. Individual 1960 photos registered to common points on year 2000 SID mosaics draped over Digital Terrain Model from spring 2000, and rectified via bilinear re-sampling to 1’ pixels.
Single Fused Map Cache: false
Extent:
XMin: 37941.500000000015
YMin: 466996.80000000005
XMax: 165786.49999999994
YMax: 627591.7999999999
Spatial Reference: 103404
(8213)
Initial Extent:
XMin: 37941.500000000015
YMin: 466996.80000000005
XMax: 165786.49999999994
YMax: 627591.7999999999
Spatial Reference: 103404
(8213)
Full Extent:
XMin: 37941.500000000015
YMin: 466996.80000000005
XMax: 165786.49999999994
YMax: 627591.7999999999
Spatial Reference: 103404
(8213)
Pixel Size X: 0.9999999999999994
Pixel Size Y: 0.9999999999999992
Band Count: 1
Pixel Type: U8
RasterFunction Infos: {"rasterFunctionInfos": [{
"help": "",
"name": "None",
"description": ""
}]}
Mensuration Capabilities: None
Inspection Capabilities:
Has Histograms: true
Has Colormap: false
Has Multi Dimensions : false
Rendering Rule:
Min Scale: 0
Max Scale: 0
Copyright Text: Brown County Wisconsin, USDA Aerial Photography Field Office (APFO)
Service Data Type: esriImageServiceDataTypeGeneric
Min Values: 9
Max Values: 255
Mean Values: 134.05702800324653
Standard Deviation Values: 33.127542443793395
Object ID Field: OBJECTID
Fields:
-
OBJECTID
(
alias: OBJECTID, type: esriFieldTypeOID
)
-
Shape
(
alias: Shape, type: esriFieldTypeGeometry
)
-
Name
(
length: 200, alias: Name, type: esriFieldTypeString
)
-
MinPS
(
alias: MinPS, type: esriFieldTypeDouble
)
-
MaxPS
(
alias: MaxPS, type: esriFieldTypeDouble
)
-
LowPS
(
alias: LowPS, type: esriFieldTypeDouble
)
-
HighPS
(
alias: HighPS, type: esriFieldTypeDouble
)
-
Category
(
alias: Category, type: esriFieldTypeInteger
, Coded Values:
[0: Unknown]
, [1: Primary]
, [2: Overview]
, ...6 more...
)
-
Tag
(
length: 100, alias: Tag, type: esriFieldTypeString
)
-
GroupName
(
length: 100, alias: GroupName, type: esriFieldTypeString
)
-
ProductName
(
length: 100, alias: ProductName, type: esriFieldTypeString
)
-
CenterX
(
alias: CenterX, type: esriFieldTypeDouble
)
-
CenterY
(
alias: CenterY, type: esriFieldTypeDouble
)
-
ZOrder
(
alias: ZOrder, type: esriFieldTypeInteger
)
-
Shape_Length
(
alias: Shape_Length, type: esriFieldTypeDouble
)
-
Shape_Area
(
alias: Shape_Area, type: esriFieldTypeDouble
)
Default Mosaic Method: Northwest
Allowed Mosaic Methods: NorthWest,Center,LockRaster,ByAttribute,Nadir,Viewpoint,Seamline,None
SortField:
SortValue: N/A
Mosaic Operator: First
Default Compression Quality: 75
Default Resampling Method: Bilinear
Max Record Count: 1000
Max Image Height: 4100
Max Image Width: 15000
Max Download Image Count: 20
Max Mosaic Image Count: 60
Allow Raster Function: true
Allow Copy: true
Allow Analysis: true
Allow Compute TiePoints: false
Supports Statistics: true
Supports Advanced Queries: true
Use StandardizedQueries: true
Raster Type Infos:
Name: Raster Dataset
Description: Supports all ArcGIS Raster Datasets
Help:
Has Raster Attribute Table: false
Edit Fields Info: N/A
Ownership Based AccessControl For Rasters: N/A
Child Resources:
Info
Histograms
Statistics
Key Properties
Legend
Raster Function Infos
Supported Operations:
Export Image
Query
Identify
Compute Histograms
Compute Statistics Histograms
Get Samples
Compute Class Statistics
Query GPS Info
Find Images
Image to Map
Map to Image
Measure from Image
Image to Map Multiray
Query Boundary
Compute Pixel Location
Compute Angles
Validate
Project