View In:
ArcGIS JavaScript
ArcGIS Online Map Viewer
ArcGIS Earth
Service Description: Digital aerial photo mosaic covering much of the west side of the City of Green Bay created from scanned photos from year 1948. Hard copy photos were obtained from the City of Green Bay and scanned and digitally georeferenced using ArcGIS Pro in 2023 by Brown County Planning & Land Services Department interns. Black & White imagery. Scans were done in house at 600 dpi yielding a ground resolution of approximately 0.25 feet. The hard copy photos were large scale but the exact scale was not noted before returning the prints back to the city. To produce this dataset, individual 1948 photos were registered to common points on more recent orthophotos. This is not a true orthophoto; no DEM was used. Horizontal accuracy of the 1948 mosaic dataset varies but is generally less than 20 feet in most places.
Name: AerialImagery/AerialPhotos_1948
Description: Digital aerial photo mosaic covering much of the west side of the City of Green Bay created from scanned photos from year 1948. Hard copy photos were obtained from the City of Green Bay and scanned and digitally georeferenced using ArcGIS Pro in 2023 by Brown County Planning & Land Services Department interns. Black & White imagery. Scans were done in house at 600 dpi yielding a ground resolution of approximately 0.25 feet. The hard copy photos were large scale but the exact scale was not noted before returning the prints back to the city. To produce this dataset, individual 1948 photos were registered to common points on more recent orthophotos. This is not a true orthophoto; no DEM was used. Horizontal accuracy of the 1948 mosaic dataset varies but is generally less than 20 feet in most places.
Single Fused Map Cache: false
Extent:
XMin: 80404.63361117833
YMin: 558115.3673190274
XMax: 106396.55191503666
YMax: 583351.4371203191
Spatial Reference: 103404
(8213)
Initial Extent:
XMin: 80404.63361117833
YMin: 558115.3673190274
XMax: 106396.55191503666
YMax: 583351.4371203191
Spatial Reference: 103404
(8213)
Full Extent:
XMin: 80404.63361117833
YMin: 558115.3673190274
XMax: 106396.55191503666
YMax: 583351.4371203191
Spatial Reference: 103404
(8213)
Pixel Size X: 0.18248394557379788
Pixel Size Y: 0.18248394557379807
Band Count: 3
Pixel Type: U8
RasterFunction Infos: {"rasterFunctionInfos": [{
"help": "",
"name": "None",
"description": ""
}]}
Mensuration Capabilities: None
Inspection Capabilities:
Has Histograms: true
Has Colormap: false
Has Multi Dimensions : false
Rendering Rule:
Min Scale: 0
Max Scale: 0
Copyright Text: City of Green Bay, Brown County Wisconsin
Service Data Type: esriImageServiceDataTypeRGB
Min Values: 70, 74, 73
Max Values: 247, 230, 213
Mean Values: 139.52976755218256, 133.67967267552211, 128.49074952561659
Standard Deviation Values: 32.5463685325225, 27.983418925785543, 24.287037529631387
Object ID Field: OBJECTID
Fields:
-
OBJECTID
(
alias: OBJECTID, type: esriFieldTypeOID
)
-
Shape
(
alias: Shape, type: esriFieldTypeGeometry
)
-
Name
(
length: 200, alias: Name, type: esriFieldTypeString
)
-
MinPS
(
alias: MinPS, type: esriFieldTypeDouble
)
-
MaxPS
(
alias: MaxPS, type: esriFieldTypeDouble
)
-
LowPS
(
alias: LowPS, type: esriFieldTypeDouble
)
-
HighPS
(
alias: HighPS, type: esriFieldTypeDouble
)
-
Category
(
alias: Category, type: esriFieldTypeInteger
, Coded Values:
[0: Unknown]
, [1: Primary]
, [2: Overview]
, ...6 more...
)
-
Tag
(
length: 100, alias: Tag, type: esriFieldTypeString
)
-
GroupName
(
length: 100, alias: GroupName, type: esriFieldTypeString
)
-
ProductName
(
length: 100, alias: ProductName, type: esriFieldTypeString
)
-
CenterX
(
alias: CenterX, type: esriFieldTypeDouble
)
-
CenterY
(
alias: CenterY, type: esriFieldTypeDouble
)
-
ZOrder
(
alias: ZOrder, type: esriFieldTypeInteger
)
-
Shape_Length
(
alias: Shape_Length, type: esriFieldTypeDouble
)
-
Shape_Area
(
alias: Shape_Area, type: esriFieldTypeDouble
)
-
SOrder
(
alias: SOrder, type: esriFieldTypeInteger
)
-
SLevelPS
(
alias: SLevelPS, type: esriFieldTypeDouble
)
Default Mosaic Method: Seamline
Allowed Mosaic Methods: Seamline,NorthWest,Center,LockRaster,ByAttribute,Nadir,Viewpoint,None
SortField:
SortValue: N/A
Mosaic Operator: First
Default Compression Quality: 75
Default Resampling Method: Bilinear
Max Record Count: 1000
Max Image Height: 4100
Max Image Width: 15000
Max Download Image Count: 20
Max Mosaic Image Count: 60
Allow Raster Function: true
Allow Copy: true
Allow Analysis: true
Allow Compute TiePoints: false
Supports Statistics: true
Supports Advanced Queries: true
Use StandardizedQueries: true
Raster Type Infos:
Name: Raster Dataset
Description: Supports all ArcGIS Raster Datasets
Help:
Has Raster Attribute Table: false
Edit Fields Info: N/A
Ownership Based AccessControl For Rasters: N/A
Child Resources:
Info
Histograms
Statistics
Key Properties
Legend
Raster Function Infos
Supported Operations:
Export Image
Query
Identify
Compute Histograms
Compute Statistics Histograms
Get Samples
Compute Class Statistics
Query GPS Info
Find Images
Image to Map
Map to Image
Measure from Image
Image to Map Multiray
Query Boundary
Compute Pixel Location
Compute Angles
Validate
Project